BEGIN:VCALENDAR
VERSION:2.0
PRODID:-//August-Dicke-Schule - ECPv6.15.20//NONSGML v1.0//EN
CALSCALE:GREGORIAN
METHOD:PUBLISH
X-WR-CALNAME:August-Dicke-Schule
X-ORIGINAL-URL:https://gymnasium-august-dicke.de
X-WR-CALDESC:Veranstaltungen für August-Dicke-Schule
REFRESH-INTERVAL;VALUE=DURATION:PT1H
X-Robots-Tag:noindex
X-PUBLISHED-TTL:PT1H
BEGIN:VTIMEZONE
TZID:Atlantic/Azores
BEGIN:DAYLIGHT
TZOFFSETFROM:-0100
TZOFFSETTO:+0000
TZNAME:+00
DTSTART:20240331T010000
END:DAYLIGHT
BEGIN:STANDARD
TZOFFSETFROM:+0000
TZOFFSETTO:-0100
TZNAME:-01
DTSTART:20241027T010000
END:STANDARD
BEGIN:DAYLIGHT
TZOFFSETFROM:-0100
TZOFFSETTO:+0000
TZNAME:+00
DTSTART:20250330T010000
END:DAYLIGHT
BEGIN:STANDARD
TZOFFSETFROM:+0000
TZOFFSETTO:-0100
TZNAME:-01
DTSTART:20251026T010000
END:STANDARD
BEGIN:DAYLIGHT
TZOFFSETFROM:-0100
TZOFFSETTO:+0000
TZNAME:+00
DTSTART:20260329T010000
END:DAYLIGHT
BEGIN:STANDARD
TZOFFSETFROM:+0000
TZOFFSETTO:-0100
TZNAME:-01
DTSTART:20261025T010000
END:STANDARD
END:VTIMEZONE
BEGIN:VEVENT
DTSTART;TZID=Atlantic/Azores:20250210T000000
DTEND;TZID=Atlantic/Azores:20250215T235959
DTSTAMP:20260425T202818
CREATED:20240730T091603Z
LAST-MODIFIED:20240730T091603Z
UID:10000331-1739145600-1739663999@gymnasium-august-dicke.de
SUMMARY:Skikompaktkurs 10
DESCRIPTION:
URL:https://gymnasium-august-dicke.de/event/skikompaktkurs-10/
LOCATION:Gymnasium August-Dicke-Schule\, Schützenstraße 44\, Solingen\, NRW\, 42659\, Deutschland
END:VEVENT
BEGIN:VEVENT
DTSTART;TZID=Atlantic/Azores:20250214T153000
DTEND;TZID=Atlantic/Azores:20250214T153000
DTSTAMP:20260425T202818
CREATED:20241230T143619Z
LAST-MODIFIED:20241230T143619Z
UID:10000350-1739547000-1739547000@gymnasium-august-dicke.de
SUMMARY:Info-Nachmittag für Realschüler
DESCRIPTION:
URL:https://gymnasium-august-dicke.de/event/info-nachmittag-fuer-realschueler/
LOCATION:Gymnasium August-Dicke-Schule\, Schützenstraße 44\, Solingen\, NRW\, 42659\, Deutschland
END:VEVENT
END:VCALENDAR