BEGIN:VCALENDAR
VERSION:2.0
PRODID:-//August-Dicke-Schule - ECPv6.15.20//NONSGML v1.0//EN
CALSCALE:GREGORIAN
METHOD:PUBLISH
X-WR-CALNAME:August-Dicke-Schule
X-ORIGINAL-URL:https://gymnasium-august-dicke.de
X-WR-CALDESC:Veranstaltungen für August-Dicke-Schule
REFRESH-INTERVAL;VALUE=DURATION:PT1H
X-Robots-Tag:noindex
X-PUBLISHED-TTL:PT1H
BEGIN:VTIMEZONE
TZID:Atlantic/Azores
BEGIN:DAYLIGHT
TZOFFSETFROM:-0100
TZOFFSETTO:+0000
TZNAME:+00
DTSTART:20230326T010000
END:DAYLIGHT
BEGIN:STANDARD
TZOFFSETFROM:+0000
TZOFFSETTO:-0100
TZNAME:-01
DTSTART:20231029T010000
END:STANDARD
BEGIN:DAYLIGHT
TZOFFSETFROM:-0100
TZOFFSETTO:+0000
TZNAME:+00
DTSTART:20240331T010000
END:DAYLIGHT
BEGIN:STANDARD
TZOFFSETFROM:+0000
TZOFFSETTO:-0100
TZNAME:-01
DTSTART:20241027T010000
END:STANDARD
BEGIN:DAYLIGHT
TZOFFSETFROM:-0100
TZOFFSETTO:+0000
TZNAME:+00
DTSTART:20250330T010000
END:DAYLIGHT
BEGIN:STANDARD
TZOFFSETFROM:+0000
TZOFFSETTO:-0100
TZNAME:-01
DTSTART:20251026T010000
END:STANDARD
END:VTIMEZONE
BEGIN:VEVENT
DTSTART;TZID=Atlantic/Azores:20240909T080000
DTEND;TZID=Atlantic/Azores:20240913T170000
DTSTAMP:20260426T032029
CREATED:20240730T090226Z
LAST-MODIFIED:20240730T090716Z
UID:10000318-1725868800-1726246800@gymnasium-august-dicke.de
SUMMARY:Kursfahrt Q2
DESCRIPTION:
URL:https://gymnasium-august-dicke.de/event/kursfahrt-q2-vom-09-09-13-09-24/
LOCATION:Gymnasium August-Dicke-Schule\, Schützenstraße 44\, Solingen\, NRW\, 42659\, Deutschland
END:VEVENT
BEGIN:VEVENT
DTSTART;TZID=Atlantic/Azores:20240910T080000
DTEND;TZID=Atlantic/Azores:20240913T130000
DTSTAMP:20260426T032029
CREATED:20240730T090325Z
LAST-MODIFIED:20240730T094355Z
UID:10000319-1725955200-1726232400@gymnasium-august-dicke.de
SUMMARY:Klassenfahrt 6 nach Prüm
DESCRIPTION:
URL:https://gymnasium-august-dicke.de/event/klassenfahrt-6-nach-pruem-bis-13-09-24/
LOCATION:Gymnasium August-Dicke-Schule\, Schützenstraße 44\, Solingen\, NRW\, 42659\, Deutschland
END:VEVENT
BEGIN:VEVENT
DTSTART;TZID=Atlantic/Azores:20240914T150000
DTEND;TZID=Atlantic/Azores:20240914T170000
DTSTAMP:20260426T032029
CREATED:20240801T090138Z
LAST-MODIFIED:20240801T090138Z
UID:10000341-1726326000-1726333200@gymnasium-august-dicke.de
SUMMARY:Gold- und Silberabitur
DESCRIPTION:
URL:https://gymnasium-august-dicke.de/event/gold-und-silberabitur/
LOCATION:Gymnasium August-Dicke-Schule\, Schützenstraße 44\, Solingen\, NRW\, 42659\, Deutschland
END:VEVENT
BEGIN:VEVENT
DTSTART;TZID=Atlantic/Azores:20240918T140000
DTEND;TZID=Atlantic/Azores:20240918T160000
DTSTAMP:20260426T032029
CREATED:20240819T185726Z
LAST-MODIFIED:20240819T185726Z
UID:10000342-1726668000-1726675200@gymnasium-august-dicke.de
SUMMARY:1. Lehrerkonferenz
DESCRIPTION:
URL:https://gymnasium-august-dicke.de/event/1-lehrerkonferenz-4/
LOCATION:Gymnasium August-Dicke-Schule\, Schützenstraße 44\, Solingen\, NRW\, 42659\, Deutschland
END:VEVENT
BEGIN:VEVENT
DTSTART;TZID=Atlantic/Azores:20240923T190000
DTEND;TZID=Atlantic/Azores:20240923T190000
DTSTAMP:20260426T032029
CREATED:20240730T090408Z
LAST-MODIFIED:20240730T094108Z
UID:10000320-1727118000-1727118000@gymnasium-august-dicke.de
SUMMARY:Schulpflegschaftssitzung
DESCRIPTION:
URL:https://gymnasium-august-dicke.de/event/schulpflegschaftssitzung-19-00-uhr-mensa/
LOCATION:Gymnasium August-Dicke-Schule\, Schützenstraße 44\, Solingen\, NRW\, 42659\, Deutschland
END:VEVENT
END:VCALENDAR