BEGIN:VCALENDAR
VERSION:2.0
PRODID:-//August-Dicke-Schule - ECPv6.15.20//NONSGML v1.0//EN
CALSCALE:GREGORIAN
METHOD:PUBLISH
X-ORIGINAL-URL:https://gymnasium-august-dicke.de
X-WR-CALDESC:Veranstaltungen für August-Dicke-Schule
REFRESH-INTERVAL;VALUE=DURATION:PT1H
X-Robots-Tag:noindex
X-PUBLISHED-TTL:PT1H
BEGIN:VTIMEZONE
TZID:Atlantic/Azores
BEGIN:DAYLIGHT
TZOFFSETFROM:-0100
TZOFFSETTO:+0000
TZNAME:+00
DTSTART:20240331T010000
END:DAYLIGHT
BEGIN:STANDARD
TZOFFSETFROM:+0000
TZOFFSETTO:-0100
TZNAME:-01
DTSTART:20241027T010000
END:STANDARD
BEGIN:DAYLIGHT
TZOFFSETFROM:-0100
TZOFFSETTO:+0000
TZNAME:+00
DTSTART:20250330T010000
END:DAYLIGHT
BEGIN:STANDARD
TZOFFSETFROM:+0000
TZOFFSETTO:-0100
TZNAME:-01
DTSTART:20251026T010000
END:STANDARD
BEGIN:DAYLIGHT
TZOFFSETFROM:-0100
TZOFFSETTO:+0000
TZNAME:+00
DTSTART:20260329T010000
END:DAYLIGHT
BEGIN:STANDARD
TZOFFSETFROM:+0000
TZOFFSETTO:-0100
TZNAME:-01
DTSTART:20261025T010000
END:STANDARD
END:VTIMEZONE
BEGIN:VEVENT
DTSTART;TZID=Atlantic/Azores:20250203T120000
DTEND;TZID=Atlantic/Azores:20250203T190000
DTSTAMP:20260425T185459
CREATED:20241208T102613Z
LAST-MODIFIED:20241208T102613Z
UID:10000348-1738584000-1738609200@gymnasium-august-dicke.de
SUMMARY:Zeugniskonferenzen (Kurzstunden)
DESCRIPTION:
URL:https://gymnasium-august-dicke.de/event/zeugniskonferenzen-kurzstunden-6/
LOCATION:Gymnasium August-Dicke-Schule\, Schützenstraße 44\, Solingen\, NRW\, 42659\, Deutschland
END:VEVENT
BEGIN:VEVENT
DTSTART;TZID=Atlantic/Azores:20250207T080000
DTEND;TZID=Atlantic/Azores:20250207T170000
DTSTAMP:20260425T185459
CREATED:20240730T091501Z
LAST-MODIFIED:20240730T091501Z
UID:10000330-1738915200-1738947600@gymnasium-august-dicke.de
SUMMARY:Halbjahreszeugnisse
DESCRIPTION:
URL:https://gymnasium-august-dicke.de/event/halbjahreszeugnisse-2/
LOCATION:Gymnasium August-Dicke-Schule\, Schützenstraße 44\, Solingen\, NRW\, 42659\, Deutschland
END:VEVENT
BEGIN:VEVENT
DTSTART;TZID=Atlantic/Azores:20250210T000000
DTEND;TZID=Atlantic/Azores:20250215T235959
DTSTAMP:20260425T185459
CREATED:20240730T091603Z
LAST-MODIFIED:20240730T091603Z
UID:10000331-1739145600-1739663999@gymnasium-august-dicke.de
SUMMARY:Skikompaktkurs 10
DESCRIPTION:
URL:https://gymnasium-august-dicke.de/event/skikompaktkurs-10/
LOCATION:Gymnasium August-Dicke-Schule\, Schützenstraße 44\, Solingen\, NRW\, 42659\, Deutschland
END:VEVENT
BEGIN:VEVENT
DTSTART;TZID=Atlantic/Azores:20250211T083000
DTEND;TZID=Atlantic/Azores:20250211T170000
DTSTAMP:20260425T185459
CREATED:20240730T091655Z
LAST-MODIFIED:20240730T091655Z
UID:10000332-1739262600-1739293200@gymnasium-august-dicke.de
SUMMARY:Anmeldung neue 5er
DESCRIPTION:
URL:https://gymnasium-august-dicke.de/event/anmeldung-neue-5er/
LOCATION:Gymnasium August-Dicke-Schule\, Schützenstraße 44\, Solingen\, NRW\, 42659\, Deutschland
END:VEVENT
BEGIN:VEVENT
DTSTART;TZID=Atlantic/Azores:20250212T083000
DTEND;TZID=Atlantic/Azores:20250212T170000
DTSTAMP:20260425T185459
CREATED:20240730T091721Z
LAST-MODIFIED:20240730T091721Z
UID:10000333-1739349000-1739379600@gymnasium-august-dicke.de
SUMMARY:Anmeldung neue 5er
DESCRIPTION:
URL:https://gymnasium-august-dicke.de/event/anmeldung-neue-5er-2/
LOCATION:Gymnasium August-Dicke-Schule\, Schützenstraße 44\, Solingen\, NRW\, 42659\, Deutschland
END:VEVENT
BEGIN:VEVENT
DTSTART;TZID=Atlantic/Azores:20250214T153000
DTEND;TZID=Atlantic/Azores:20250214T153000
DTSTAMP:20260425T185459
CREATED:20241230T143619Z
LAST-MODIFIED:20241230T143619Z
UID:10000350-1739547000-1739547000@gymnasium-august-dicke.de
SUMMARY:Info-Nachmittag für Realschüler
DESCRIPTION:
URL:https://gymnasium-august-dicke.de/event/info-nachmittag-fuer-realschueler/
LOCATION:Gymnasium August-Dicke-Schule\, Schützenstraße 44\, Solingen\, NRW\, 42659\, Deutschland
END:VEVENT
BEGIN:VEVENT
DTSTART;TZID=Atlantic/Azores:20250221T143000
DTEND;TZID=Atlantic/Azores:20250221T183000
DTSTAMP:20260425T185459
CREATED:20241230T142311Z
LAST-MODIFIED:20241230T143402Z
UID:10000349-1740148200-1740162600@gymnasium-august-dicke.de
SUMMARY:Förderelternsprechtag
DESCRIPTION:
URL:https://gymnasium-august-dicke.de/event/foerderelternsprechtag/
LOCATION:Gymnasium August-Dicke-Schule\, Schützenstraße 44\, Solingen\, NRW\, 42659\, Deutschland
END:VEVENT
BEGIN:VEVENT
DTSTART;TZID=Atlantic/Azores:20250228T000000
DTEND;TZID=Atlantic/Azores:20250228T235959
DTSTAMP:20260425T185459
CREATED:20240730T091804Z
LAST-MODIFIED:20240730T091804Z
UID:10000334-1740700800-1740787199@gymnasium-august-dicke.de
SUMMARY:Beweglicher Ferientag
DESCRIPTION:
URL:https://gymnasium-august-dicke.de/event/beweglicher-ferientag-7/
LOCATION:Gymnasium August-Dicke-Schule\, Schützenstraße 44\, Solingen\, NRW\, 42659\, Deutschland
END:VEVENT
END:VCALENDAR