BEGIN:VCALENDAR
VERSION:2.0
PRODID:-//August-Dicke-Schule - ECPv6.15.20//NONSGML v1.0//EN
CALSCALE:GREGORIAN
METHOD:PUBLISH
X-WR-CALNAME:August-Dicke-Schule
X-ORIGINAL-URL:https://gymnasium-august-dicke.de
X-WR-CALDESC:Veranstaltungen für August-Dicke-Schule
REFRESH-INTERVAL;VALUE=DURATION:PT1H
X-Robots-Tag:noindex
X-PUBLISHED-TTL:PT1H
BEGIN:VTIMEZONE
TZID:Atlantic/Azores
BEGIN:DAYLIGHT
TZOFFSETFROM:-0100
TZOFFSETTO:+0000
TZNAME:+00
DTSTART:20240331T010000
END:DAYLIGHT
BEGIN:STANDARD
TZOFFSETFROM:+0000
TZOFFSETTO:-0100
TZNAME:-01
DTSTART:20241027T010000
END:STANDARD
BEGIN:DAYLIGHT
TZOFFSETFROM:-0100
TZOFFSETTO:+0000
TZNAME:+00
DTSTART:20250330T010000
END:DAYLIGHT
BEGIN:STANDARD
TZOFFSETFROM:+0000
TZOFFSETTO:-0100
TZNAME:-01
DTSTART:20251026T010000
END:STANDARD
BEGIN:DAYLIGHT
TZOFFSETFROM:-0100
TZOFFSETTO:+0000
TZNAME:+00
DTSTART:20260329T010000
END:DAYLIGHT
BEGIN:STANDARD
TZOFFSETFROM:+0000
TZOFFSETTO:-0100
TZNAME:-01
DTSTART:20261025T010000
END:STANDARD
END:VTIMEZONE
BEGIN:VEVENT
DTSTART;TZID=Atlantic/Azores:20250909T000000
DTEND;TZID=Atlantic/Azores:20250912T235959
DTSTAMP:20260423T071014
CREATED:20250820T125600Z
LAST-MODIFIED:20250820T131430Z
UID:10000376-1757376000-1757721599@gymnasium-august-dicke.de
SUMMARY:Klassenfahrt Jgst. 6
DESCRIPTION:
URL:https://gymnasium-august-dicke.de/event/klassenfahrt-jgst-6/
LOCATION:Gymnasium August-Dicke-Schule\, Schützenstraße 44\, Solingen\, NRW\, 42659\, Deutschland
END:VEVENT
BEGIN:VEVENT
DTSTART;TZID=Atlantic/Azores:20250915T080000
DTEND;TZID=Atlantic/Azores:20250915T163000
DTSTAMP:20260423T071014
CREATED:20250915T160508Z
LAST-MODIFIED:20250915T160508Z
UID:10000386-1757923200-1757953800@gymnasium-august-dicke.de
SUMMARY:Pädagogischer Tag
DESCRIPTION:
URL:https://gymnasium-august-dicke.de/event/paedagogischer-tag-7/
LOCATION:Gymnasium August-Dicke-Schule\, Schützenstraße 44\, Solingen\, NRW\, 42659\, Deutschland
END:VEVENT
BEGIN:VEVENT
DTSTART;TZID=Atlantic/Azores:20250915T140000
DTEND;TZID=Atlantic/Azores:20250915T153000
DTSTAMP:20260423T071014
CREATED:20250820T125743Z
LAST-MODIFIED:20250820T125743Z
UID:10000377-1757944800-1757950200@gymnasium-august-dicke.de
SUMMARY:1. Lehrerkonferenz
DESCRIPTION:
URL:https://gymnasium-august-dicke.de/event/1-lehrerkonferenz-5/
LOCATION:Gymnasium August-Dicke-Schule\, Schützenstraße 44\, Solingen\, NRW\, 42659\, Deutschland
END:VEVENT
BEGIN:VEVENT
DTSTART;TZID=Atlantic/Azores:20250919T000000
DTEND;TZID=Atlantic/Azores:20250919T235959
DTSTAMP:20260423T071014
CREATED:20250820T125829Z
LAST-MODIFIED:20250820T131245Z
UID:10000378-1758240000-1758326399@gymnasium-august-dicke.de
SUMMARY:Kollegiumswandertag (Studientag)
DESCRIPTION:
URL:https://gymnasium-august-dicke.de/event/kollegiumswandertag-studientag/
LOCATION:Gymnasium August-Dicke-Schule\, Schützenstraße 44\, Solingen\, NRW\, 42659\, Deutschland
END:VEVENT
BEGIN:VEVENT
DTSTART;TZID=Atlantic/Azores:20250920T150000
DTEND;TZID=Atlantic/Azores:20250920T180000
DTSTAMP:20260423T071014
CREATED:20250820T125916Z
LAST-MODIFIED:20250820T131159Z
UID:10000384-1758380400-1758391200@gymnasium-august-dicke.de
SUMMARY:Gold- und Silberabitur
DESCRIPTION:
URL:https://gymnasium-august-dicke.de/event/gold-und-silberabitur-2/
LOCATION:Gymnasium August-Dicke-Schule\, Schützenstraße 44\, Solingen\, NRW\, 42659\, Deutschland
END:VEVENT
BEGIN:VEVENT
DTSTART;TZID=Atlantic/Azores:20250925T190000
DTEND;TZID=Atlantic/Azores:20250925T190000
DTSTAMP:20260423T071014
CREATED:20250820T130019Z
LAST-MODIFIED:20250904T095643Z
UID:10000385-1758826800-1758826800@gymnasium-august-dicke.de
SUMMARY:Schulpflegschaftssitzung
DESCRIPTION:
URL:https://gymnasium-august-dicke.de/event/schulpflegschaftssitzung-5/
LOCATION:Gymnasium August-Dicke-Schule\, Schützenstraße 44\, Solingen\, NRW\, 42659\, Deutschland
END:VEVENT
END:VCALENDAR